BEGIN:VCALENDAR
VERSION:2.0
PRODID:-//Tukios.com/
BEGIN:VEVENT
UID:968e4c93-fd3b-4432-ae6d-c6737483baeb@www.pasleysmortuary.com
DTSTAMP:20260423T001537Z
DTSTART:20260428
SUMMARY:Interment
DESCRIPTION:
URL:https://www.pasleysmortuary.com/obituaries/elizabeth-brisbane
LOCATION:New St. James Bethel AME Church Cemetery 5305 Maybank Hwy  
	Wadmalaw Island SC 29487
GEO:32.67992;-80.1627148
END:VEVENT
END:VCALENDAR