BEGIN:VCALENDAR
VERSION:2.0
PRODID:-//Tukios.com/
BEGIN:VEVENT
UID:6f526502-0220-4cc2-ad12-2608ed7c8d44@www.pasleysmortuary.com
DTSTAMP:20260423T001500Z
DTSTART:20260428T150000Z
DTEND:20260428T160000Z
SUMMARY:Celebration of Life
DESCRIPTION:
URL:https://www.pasleysmortuary.com/obituaries/elizabeth-brisbane
LOCATION: 5305 Maybank Hwy  Wadmalaw Island SC 29487
GEO:32.6788923;-80.1617039
END:VEVENT
END:VCALENDAR