BEGIN:VCALENDAR
VERSION:2.0
PRODID:-//Tukios.com/
BEGIN:VEVENT
UID:84401508-f611-4b74-89e9-a4b1fef39b31@www.pasleysmortuary.com
DTSTAMP:20260423T001801Z
DTSTART:20260427T200000Z
DTEND:20260427T220000Z
SUMMARY:Viewing
DESCRIPTION:
URL:https://www.pasleysmortuary.com/obituaries/elizabeth-brisbane
LOCATION: 1115 5th Ave  Charleston SC 29407
GEO:32.7948992;-79.9935344
END:VEVENT
END:VCALENDAR